BEGIN:VCALENDAR
VERSION:2.0
PRODID:-//Kansas International Film Festival - ECPv5.3.1//NONSGML v1.0//EN
CALSCALE:GREGORIAN
METHOD:PUBLISH
X-WR-CALNAME:Kansas International Film Festival
X-ORIGINAL-URL:https://kansasfilm.com
X-WR-CALDESC:Events for Kansas International Film Festival
BEGIN:VTIMEZONE
TZID:UTC
BEGIN:STANDARD
TZOFFSETFROM:+0000
TZOFFSETTO:+0000
TZNAME:UTC
DTSTART:20190101T000000
END:STANDARD
END:VTIMEZONE
BEGIN:VEVENT
DTSTART;TZID=UTC:20191111T172000
DTEND;TZID=UTC:20191111T172000
DTSTAMP:20260421T093016
CREATED:20191004T010128Z
LAST-MODIFIED:20191016T012309Z
UID:2139-1573492800-1573492800@kansasfilm.com
SUMMARY:A Life's Work
DESCRIPTION:Filmed over the course of 15 years\, the documentary A Life’s Work is about people engaged with projects they won’t complete in their lifetime\, projects that could have a positive\, global effect. \n\nA Life’s Work
URL:https://kansasfilm.com/event/a-lifes-work/
LOCATION:Glenwood Arts Theater\, 3707 W. 95th St.\, Overland Park\, KS\, 66206\, United States
ATTACH;FMTTYPE=image/jpeg:https://kansasfilm.com/wp-content/uploads/2019/09/A-lifes-work.jpg
END:VEVENT
END:VCALENDAR